BEGIN:VCALENDAR
METHOD:PUBLISH
VERSION:2.0
PRODID:-//Eventilla iCal Syndication//NONSGML Liana//EN
BEGIN:VEVENT
UID:RGY1o@eventilla.com
DTSTAMP:20260414T110000Z
DTSTART:20260414T110000Z
DTEND:20260414T130000Z
SUMMARY:Kasvisten matka – ideoita ja oivalluksia
DESCRIPTION:KUTSU\nTervetuloa Kasvisruokainnovaatioilla kasvuun -hankkeen lopputilaisuuteen “Kasvisten matka – ideoita ja oivalluksia”\, jossa juhlistamme hankkeen matkaa\, yhteistyötä ja oivalluksia kasvisten ja kasvisruoan parissa. Tilaisuudessa esittelemme keskeisiä tuloksia ja yritysyhteistyön onnistumisia sekä julkaisemme sähköisen tuotoksemme kasvisraaka-aineiden monipuolisuudesta.  \nPäivä: Tiistai 14.4.2026Paikka: Lounais-Hämeen koulutuskuntayhtymä\, Saksankatu 27\, 30100 Forssa\, C-rakennus\, AlhokabinettiAika: Klo 14–16\nOhjelmassa mm.- Alkusanat- Yrityskumppanien puheenvuoroja- Hankkeen oivalluksia ja oppimispolku improvisoiden😊- E-kirjan julkaisu ja käyttömahdollisuuksien esittely- Kuohuvaa\, pientä suolaista ja makeaa kasvispurtavaa\nIlmoittaudu tilaisuuteen torstaihin 2.4.2026 mennessä alla olevasta painikkeesta.  (Huomioimme tuotteissa laktoosittomat ja gluteenittomat ruokavaliot).Lämpimästi tervetuloa mukaan inspiroitumaan kasviksista!\nYstävällisin terveisin\,koko hankkeen tiimin puolesta\,Sini ja Sanna\nLounais-Hämeen koulutuskuntayhtymä\, Sini Mäkelä\, puh. 050 468 7938 ja Sini.Makela@lhkk.fiHämeen ammattikorkeakoulu\, Sanna Lento\, puh. 040 509 6443 ja Sanna.Lento@hamk.fi\n \n\n 
LOCATION:Lounais-Hämeen koulutuskuntayhtymä\, Saksankatu 27\, 30100\,
 Forssa
URL:http://tapahtumat.hamk.fi/kasvistenmatka
END:VEVENT
END:VCALENDAR
