BEGIN:VCALENDAR
METHOD:PUBLISH
VERSION:2.0
PRODID:-//Eventilla iCal Syndication//NONSGML Liana//EN
BEGIN:VEVENT
UID:mQPAY@eventilla.com
DTSTAMP:20211013T100000Z
DTSTART:20211013T100000Z
DTEND:20211013T130000Z
SUMMARY:Arctic Choco Conference
DESCRIPTION:Welcome to the main event of the Chocolate Week celebration in Hämeenlinna\, Finland!\nThe virtual Arctic Choco Conference is organised together with Kultasuklaa\, Häme University of Applied Sciences\, University of Cape Coast\, City of Hämeenlinna\, Crazy Town Hämeenlinna and Ambitious Africa\, sponsored by FinCEAL.\nThe objective of the Arctic Choco Conference is to strengthen the research-based support for developing the beyond sustainability-concept for Arctic Kultasuklaa. The virtual Conference brings together the researchers from HAMK and Cape Coast University\, other selected stakeholders from Ghana and potential impact investors.\nFor more information\, please contact Ms. Jennifer Ohemeng at jennifer@ambitiousafrica.org.\nWe appreciate your interest in the Conference. Kindly register for the event.
LOCATION:Zoom
URL:http://tapahtumat.hamk.fi/chococonference
END:VEVENT
END:VCALENDAR
